BEGIN:VCALENDAR
VERSION:2.0
PRODID:-//ChamberMaster//Event Calendar 2.0//EN
METHOD:PUBLISH
X-PUBLISHED-TTL:P3D
REFRESH-INTERVAL:P3D
CALSCALE:GREGORIAN
BEGIN:VEVENT
DTSTART:20190803T160000Z
DTEND:20190803T160000Z
X-MICROSOFT-CDO-ALLDAYEVENT:FALSE
SUMMARY:Teddy Bear Fun at Yankee Candle Village
DESCRIPTION:TEDDY BEAR FUN: Aug 3rd 10am-3pm Join us for a Bear-Y good time! Free Craft 10am-12pm while supplies last Meet "Bearemy" - Build A Bear Mascot from 11am-12pm handing out stickers and coloring sheets! while supplies last Make a new friend in our Build A Bear Workshop - we will have a special Build A Bear for only $12 \, while supplies last Also save 20% off all Build A Bear Accessories. Mad Science Spy Academy 12-2pm Look out 007- the Mad Science Spy Academy is in session! Use edible messages and other ways of secretly communicating as the children decode clues to journey into the world of espionage. Communicate like a real spy with your Secret Code Breaker take-home. FREE! while supplies last Canvas Art 1-3pm Paint with Yankee Candle Village Artists & bring home your masterpiece for $5.00 Great for all ages! Also check out our NEW Candle Making Bar while your here! Create your own Signature Candle Fragrance!
X-ALT-DESC;FMTTYPE=text/html:TEDDY BEAR FUN: Aug 3rd 10am-3pm Join us for a Bear-Y good time! Free Craft 10am-12pm while supplies last Meet &quot\;Bearemy&quot\; - Build A Bear Mascot from 11am-12pm handing out stickers and coloring sheets! while supplies last Make a new friend in our Build A Bear Workshop - we will have a special Build A Bear for only $12 \, while supplies last Also save 20% off all Build A Bear Accessories. Mad Science Spy Academy 12-2pm Look out 007- the Mad Science Spy Academy is in session! Use edible messages and other ways of secretly communicating as the children decode clues to journey into the world of espionage. Communicate like a real spy with your Secret Code Breaker take-home. FREE! while supplies last Canvas Art 1-3pm Paint with Yankee Candle Village Artists &amp\; bring home your masterpiece for $5.00 Great for all ages! Also check out our NEW Candle Making Bar while your here! Create your own Signature Candle Fragrance!
LOCATION:Yankee Candle Village 25 Greenfield Road So. Deerfield\, MA 01373
UID:e.2295.443
SEQUENCE:3
DTSTAMP:20260422T020026Z
URL:https://business.easthamptonchamber.org/events/details/teddy-bear-fun-at-yankee-candle-village-443
END:VEVENT

END:VCALENDAR
