BEGIN:VCALENDAR
VERSION:2.0
PRODID:-//ChamberMaster//Event Calendar 2.0//EN
METHOD:PUBLISH
X-PUBLISHED-TTL:P3D
REFRESH-INTERVAL:P3D
CALSCALE:GREGORIAN
BEGIN:VEVENT
DTSTART:20190824T140000Z
DTEND:20190824T220000Z
X-MICROSOFT-CDO-ALLDAYEVENT:FALSE
SUMMARY:Boney Bunch & Halloween Launch Party at Yankee Candle Village
DESCRIPTION:$15 Large Candles in Witches Brew\, Haunted Hayride\, & Trick or Treat! (while supplies last) FREE with any purchase: One Samplers Votive Candle in Haunted Hayride or Trick or Treat. (while supplies last) Guests dressed up in a costume get a FREE personalized label with purchase of any large candle. 10 NEW Boney Bunch Collections! 10-12pm Free Craft for Kids (while supplies last) 11am-1pm Make a Ghost Cookie   decorate a sugar cookie with white frosting and draw on a ghost face. Punch will be served at this time. (while supplies last) Free 10am-5pm Create your own haunted fragrance at our NEW Candle-Making Bar. $21.50 each Add sparkle to your day with a Glittertoo! $4.00 each Raffles and more!
X-ALT-DESC;FMTTYPE=text/html:$15 Large Candles in Witches Brew\, Haunted Hayride\, &amp\; Trick or Treat! (while supplies last) FREE with any purchase: One Samplers Votive Candle in Haunted Hayride or Trick or Treat. (while supplies last) Guests dressed up in a costume get a FREE personalized label with purchase of any large candle. 10 NEW Boney Bunch Collections! 10-12pm Free Craft for Kids (while supplies last) 11am-1pm Make a Ghost Cookie &ndash\; decorate a sugar cookie with white frosting and draw on a ghost face. Punch will be served at this time. (while supplies last) Free 10am-5pm Create your own haunted fragrance at our NEW Candle-Making Bar. $21.50 each Add sparkle to your day with a Glittertoo! $4.00 each Raffles and more!
LOCATION:25 Greenfield Road So. Deerfield\, MA 01373
UID:e.2295.448
SEQUENCE:3
DTSTAMP:20260422T020355Z
URL:https://business.easthamptonchamber.org/events/details/boney-bunch-halloween-launch-party-at-yankee-candle-village-448
END:VEVENT

END:VCALENDAR
