BEGIN:VCALENDAR
VERSION:2.0
PRODID:-//ChamberMaster//Event Calendar 2.0//EN
METHOD:PUBLISH
X-PUBLISHED-TTL:P3D
REFRESH-INTERVAL:P3D
CALSCALE:GREGORIAN
BEGIN:VEVENT
DTSTART:20190817T140000Z
DTEND:20190817T220000Z
X-MICROSOFT-CDO-ALLDAYEVENT:FALSE
SUMMARY:Bee & Honey Event at Yankee Candle Village
DESCRIPTION:Celebrate National Honey Bee Day and sweet gifts from Mother Nature's workers! Perfect for the Kids: 10am-12pm Free Bee Craft 1-3pm Paint a sunflower and bumblebee canvas $5 Beehive Basics: 1pm Presentation by Tom Porter To Bee or Not to Bee: The lives and challenges of the Honey Bee. Visit with Historic Deerfield and learn about the Honey Bees and Beekeeping. Candle-Making Museum Demos: Every hour from 11am-4pm Learn the history of candle-making using beeswax. There will also be a special raffle here too! Savings on Beeswax Tapers - ONLY $5 Honey Sampler: 12-3pm Warm Colors Apiary 11am-4pm Lukes Bees The FUN Continues: Learn fun bee facts during our scavenger hunt Face painting\, Caricatures\, Raffle and more!
X-ALT-DESC;FMTTYPE=text/html:Celebrate National Honey Bee Day and sweet gifts from Mother Nature&rsquo\;s workers! Perfect for the Kids: 10am-12pm Free Bee Craft 1-3pm Paint a sunflower and bumblebee canvas $5 Beehive Basics: 1pm Presentation by Tom Porter To Bee or Not to Bee: The lives and challenges of the Honey Bee. Visit with Historic Deerfield and learn about the Honey Bees and Beekeeping. Candle-Making Museum Demos: Every hour from 11am-4pm Learn the history of candle-making using beeswax. There will also be a special raffle here too! Savings on Beeswax Tapers - ONLY $5 Honey Sampler: 12-3pm Warm Colors Apiary 11am-4pm Lukes Bees The FUN Continues: Learn fun bee facts during our scavenger hunt Face painting\, Caricatures\, Raffle and more!
LOCATION:25 Greenfield Road So. Deerfield\, MA 01373
UID:e.2295.447
SEQUENCE:3
DTSTAMP:20260422T003443Z
URL:https://business.easthamptonchamber.org/events/details/bee-honey-event-at-yankee-candle-village-447
END:VEVENT

END:VCALENDAR
