BEGIN:VCALENDAR
VERSION:2.0
PRODID:-//ChamberMaster//Event Calendar 2.0//EN
METHOD:PUBLISH
X-PUBLISHED-TTL:P3D
REFRESH-INTERVAL:P3D
CALSCALE:GREGORIAN
BEGIN:VEVENT
DTSTART:20240313T160000Z
DTEND:20240313T180000Z
X-MICROSOFT-CDO-ALLDAYEVENT:FALSE
SUMMARY:Annual Meeting 2024
DESCRIPTION:Join us as we celebrate our successes\, what we have learned and where we are headed.\n\n\n\nAnd most importantly\n\n\n\nwe celebrate you\, our members. If you have reached a business milestone in 2023\, be sure to join us as we want to share that with the membership and give you the recognition you deserve!
X-ALT-DESC;FMTTYPE=text/html:<h2>Join us as we celebrate our successes\, what we have learned and where we are headed.<br />\n<br />\nAnd most importantly<br />\n<br />\nwe celebrate you\, our members. If you have reached a business milestone in 2023\, be sure to join us as we want to share that with the membership and give you the recognition you deserve!&nbsp\;&nbsp\;</h2>\n
LOCATION:Inn on Boltwood 30 Boltwood Avenue Amherst\, MA
UID:e.2295.1651
SEQUENCE:3
DTSTAMP:20260420T020833Z
URL:https://business.easthamptonchamber.org/events/details/annual-meeting-2024-1651
END:VEVENT

END:VCALENDAR
